BEGIN:VCALENDAR
VERSION:2.0
PRODID:-//Antofagasta Greenhill School - ECPv6.15.13//NONSGML v1.0//EN
CALSCALE:GREGORIAN
METHOD:PUBLISH
X-WR-CALNAME:Antofagasta Greenhill School
X-ORIGINAL-URL:https://aghs.cl
X-WR-CALDESC:Eventos para Antofagasta Greenhill School
REFRESH-INTERVAL;VALUE=DURATION:PT1H
X-Robots-Tag:noindex
X-PUBLISHED-TTL:PT1H
BEGIN:VTIMEZONE
TZID:UTC
BEGIN:STANDARD
TZOFFSETFROM:+0000
TZOFFSETTO:+0000
TZNAME:UTC
DTSTART:20180101T000000
END:STANDARD
END:VTIMEZONE
BEGIN:VEVENT
DTSTART;VALUE=DATE:20200727
DTEND;VALUE=DATE:20200728
DTSTAMP:20260421T044633
CREATED:20200324T142742Z
LAST-MODIFIED:20200324T142742Z
UID:1096-1595808000-1595894399@aghs.cl
SUMMARY:Inicio Segundo Semestre
DESCRIPTION:
URL:https://aghs.cl/calendario/inicio-segundo-semestre/
LOCATION:AGHS\, Arturo Prat 1033\, Antofagasta\, Chile
ATTACH;FMTTYPE=image/png:https://aghs.cl/wp-content/uploads/2020/03/4CbNyNLPBRO.png
END:VEVENT
BEGIN:VEVENT
DTSTART;VALUE=DATE:20200710
DTEND;VALUE=DATE:20200711
DTSTAMP:20260421T044633
CREATED:20200324T142539Z
LAST-MODIFIED:20200324T142539Z
UID:1093-1594339200-1594425599@aghs.cl
SUMMARY:Fun Day Vacaciones de Invierno
DESCRIPTION:Departamento de Música\, Artes y otros.
URL:https://aghs.cl/calendario/fun-day-vacaciones-de-invierno/
LOCATION:AGHS\, Arturo Prat 1033\, Antofagasta\, Chile
ATTACH;FMTTYPE=image/jpeg:https://aghs.cl/wp-content/uploads/2020/03/funday.jpg
END:VEVENT
BEGIN:VEVENT
DTSTART;VALUE=DATE:20200619
DTEND;VALUE=DATE:20200620
DTSTAMP:20260421T044633
CREATED:20200324T142339Z
LAST-MODIFIED:20200324T142339Z
UID:1090-1592524800-1592611199@aghs.cl
SUMMARY:Winter Festival
DESCRIPTION:Departamento de inglés y Música.
URL:https://aghs.cl/calendario/winter-festival/
LOCATION:AGHS\, Arturo Prat 1033\, Antofagasta\, Chile
ATTACH;FMTTYPE=image/jpeg:https://aghs.cl/wp-content/uploads/2020/03/winter_fest.jpg
END:VEVENT
BEGIN:VEVENT
DTSTART;VALUE=DATE:20200612
DTEND;VALUE=DATE:20200613
DTSTAMP:20260421T044633
CREATED:20200324T142044Z
LAST-MODIFIED:20200324T142044Z
UID:1088-1591920000-1592006399@aghs.cl
SUMMARY:Fun Day
DESCRIPTION:Pijamas
URL:https://aghs.cl/calendario/fun-day-3/
LOCATION:AGHS\, Arturo Prat 1033\, Antofagasta\, Chile
ATTACH;FMTTYPE=image/png:https://aghs.cl/wp-content/uploads/2020/03/funday.png
END:VEVENT
BEGIN:VEVENT
DTSTART;VALUE=DATE:20200605
DTEND;VALUE=DATE:20200606
DTSTAMP:20260421T044633
CREATED:20200324T141926Z
LAST-MODIFIED:20200324T141926Z
UID:1085-1591315200-1591401599@aghs.cl
SUMMARY:Dia Mundial del Medio Ambiente
DESCRIPTION:Departamento de Ciencias y Matemáticas.
URL:https://aghs.cl/calendario/dia-mundial-del-medio-ambiente/
LOCATION:AGHS\, Arturo Prat 1033\, Antofagasta\, Chile
ATTACH;FMTTYPE=image/jpeg:https://aghs.cl/wp-content/uploads/2020/03/img_que_es_el_dia_mundial_del_medio_ambiente_y_como_celebrarlo_6940_600.jpg
END:VEVENT
BEGIN:VEVENT
DTSTART;VALUE=DATE:20200520
DTEND;VALUE=DATE:20200521
DTSTAMP:20260421T044633
CREATED:20200324T141752Z
LAST-MODIFIED:20200324T141752Z
UID:1082-1589932800-1590019199@aghs.cl
SUMMARY:Mes del Mar
DESCRIPTION:Departamento de Historia y Artes.
URL:https://aghs.cl/calendario/mes-del-mar/
LOCATION:AGHS\, Arturo Prat 1033\, Antofagasta\, Chile
ATTACH;FMTTYPE=image/png:https://aghs.cl/wp-content/uploads/2020/03/barco_2.png
END:VEVENT
BEGIN:VEVENT
DTSTART;VALUE=DATE:20200508
DTEND;VALUE=DATE:20200509
DTSTAMP:20260421T044633
CREATED:20200324T141553Z
LAST-MODIFIED:20200324T141553Z
UID:1080-1588896000-1588982399@aghs.cl
SUMMARY:Fun Day
DESCRIPTION:Animales del Mar
URL:https://aghs.cl/calendario/fun-day-2/
LOCATION:AGHS\, Arturo Prat 1033\, Antofagasta\, Chile
ATTACH;FMTTYPE=image/png:https://aghs.cl/wp-content/uploads/2020/03/funday.png
END:VEVENT
BEGIN:VEVENT
DTSTART;VALUE=DATE:20200420
DTEND;VALUE=DATE:20200421
DTSTAMP:20260421T044633
CREATED:20200324T135608Z
LAST-MODIFIED:20200324T135608Z
UID:1077-1587340800-1587427199@aghs.cl
SUMMARY:Día Convivencia Escolar
DESCRIPTION:Encargada C. Escolar
URL:https://aghs.cl/calendario/dia-convivencia-escolar/
LOCATION:AGHS\, Arturo Prat 1033\, Antofagasta\, Chile
ATTACH;FMTTYPE=image/jpeg:https://aghs.cl/wp-content/uploads/2020/03/convivencia-744x465.jpg
END:VEVENT
BEGIN:VEVENT
DTSTART;TZID=UTC:20200413T080000
DTEND;TZID=UTC:20200415T170000
DTSTAMP:20260421T044633
CREATED:20200324T135135Z
LAST-MODIFIED:20200324T135237Z
UID:1074-1586764800-1586970000@aghs.cl
SUMMARY:Día Mundial del Libro
DESCRIPTION:Encargada Departamento Lenguaje y Artes.
URL:https://aghs.cl/calendario/dia-mundial-del-libro/
LOCATION:AGHS\, Arturo Prat 1033\, Antofagasta\, Chile
ATTACH;FMTTYPE=image/jpeg:https://aghs.cl/wp-content/uploads/2020/03/ES-img-dia-del-libro.jpg
END:VEVENT
BEGIN:VEVENT
DTSTART;VALUE=DATE:20200409
DTEND;VALUE=DATE:20200410
DTSTAMP:20260421T044633
CREATED:20200324T132445Z
LAST-MODIFIED:20200324T132445Z
UID:1068-1586390400-1586476799@aghs.cl
SUMMARY:Fun Day
DESCRIPTION:Máscaras Divertidas
URL:https://aghs.cl/calendario/fun-day/
LOCATION:AGHS\, Arturo Prat 1033\, Antofagasta\, Chile
ATTACH;FMTTYPE=image/png:https://aghs.cl/wp-content/uploads/2020/03/funday.png
END:VEVENT
BEGIN:VEVENT
DTSTART;VALUE=DATE:20200406
DTEND;VALUE=DATE:20200407
DTSTAMP:20260421T044633
CREATED:20200324T132243Z
LAST-MODIFIED:20200324T132243Z
UID:1065-1586131200-1586217599@aghs.cl
SUMMARY:Inicio Academias
DESCRIPTION:
URL:https://aghs.cl/calendario/inicio-academias/
LOCATION:AGHS\, Arturo Prat 1033\, Antofagasta\, Chile
ATTACH;FMTTYPE=image/jpeg:https://aghs.cl/wp-content/uploads/2020/03/images.jpg
END:VEVENT
BEGIN:VEVENT
DTSTART;VALUE=DATE:20200403
DTEND;VALUE=DATE:20200404
DTSTAMP:20260421T044633
CREATED:20200324T134945Z
LAST-MODIFIED:20200324T134945Z
UID:1071-1585872000-1585958399@aghs.cl
SUMMARY:Día de la Actividad Física
DESCRIPTION:Departamento Ed Física
URL:https://aghs.cl/calendario/dia-de-la-actividad-fisica/
LOCATION:AGHS\, Arturo Prat 1033\, Antofagasta\, Chile
ATTACH;FMTTYPE=image/jpeg:https://aghs.cl/wp-content/uploads/2020/03/Gestion_Ocio_y_Tiempo_Libre_Tierras_de_Oria.jpg
END:VEVENT
BEGIN:VEVENT
DTSTART;VALUE=DATE:20200330
DTEND;VALUE=DATE:20200331
DTSTAMP:20260421T044633
CREATED:20200324T132030Z
LAST-MODIFIED:20200324T132030Z
UID:1061-1585526400-1585612799@aghs.cl
SUMMARY:Inicio de Reforzamiento
DESCRIPTION:
URL:https://aghs.cl/calendario/inicio-de-reforzamiento/
LOCATION:AGHS\, Arturo Prat 1033\, Antofagasta\, Chile
ATTACH;FMTTYPE=image/jpeg:https://aghs.cl/wp-content/uploads/2020/03/900x600.jpg
END:VEVENT
BEGIN:VEVENT
DTSTART;VALUE=DATE:20200327
DTEND;VALUE=DATE:20200328
DTSTAMP:20260421T044633
CREATED:20200324T143153Z
LAST-MODIFIED:20200324T143153Z
UID:1100-1585267200-1585353599@aghs.cl
SUMMARY:Jeans Day
DESCRIPTION:TODOS LOS VIERNES hay Jeans Day para la Comunidad Greenhill School\, el cual tiene un costo de $500.-  OPTATIVO.
URL:https://aghs.cl/calendario/jeans-day/
LOCATION:AGHS\, Arturo Prat 1033\, Antofagasta\, Chile
ATTACH;FMTTYPE=image/jpeg:https://aghs.cl/wp-content/uploads/2020/03/jean_day.jpg
END:VEVENT
BEGIN:VEVENT
DTSTART;VALUE=DATE:20200323
DTEND;VALUE=DATE:20200324
DTSTAMP:20260421T044633
CREATED:20200324T131640Z
LAST-MODIFIED:20200324T131750Z
UID:1057-1584921600-1585007999@aghs.cl
SUMMARY:Día Mundial del Agua
DESCRIPTION:
URL:https://aghs.cl/calendario/dia-mundial-del-agua/
LOCATION:AGHS\, Arturo Prat 1033\, Antofagasta\, Chile
ATTACH;FMTTYPE=image/jpeg:https://aghs.cl/wp-content/uploads/2020/03/Dia-mundial-agua-1.jpg
END:VEVENT
BEGIN:VEVENT
DTSTART;VALUE=DATE:20200305
DTEND;VALUE=DATE:20200306
DTSTAMP:20260421T044633
CREATED:20200324T131537Z
LAST-MODIFIED:20200324T131537Z
UID:1054-1583366400-1583452799@aghs.cl
SUMMARY:Inicio Año Escolar 2020
DESCRIPTION:
URL:https://aghs.cl/calendario/inicio-ano-escolar-2020/
LOCATION:AGHS\, Arturo Prat 1033\, Antofagasta\, Chile
END:VEVENT
BEGIN:VEVENT
DTSTART;VALUE=DATE:20200302
DTEND;VALUE=DATE:20200303
DTSTAMP:20260421T044633
CREATED:20200324T131353Z
LAST-MODIFIED:20200324T131353Z
UID:1050-1583107200-1583193599@aghs.cl
SUMMARY:Ingreso de Profesores
DESCRIPTION:
URL:https://aghs.cl/calendario/ingreso-de-profesores/
LOCATION:AGHS\, Arturo Prat 1033\, Antofagasta\, Chile
END:VEVENT
BEGIN:VEVENT
DTSTART;TZID=UTC:20190916T080000
DTEND;TZID=UTC:20190920T170000
DTSTAMP:20260421T044633
CREATED:20190904T162413Z
LAST-MODIFIED:20190904T162413Z
UID:1017-1568620800-1568998800@aghs.cl
SUMMARY:Vacaciones Fiestas Patrias
DESCRIPTION:
URL:https://aghs.cl/calendario/vacaciones-fiestas-patrias/
END:VEVENT
END:VCALENDAR